BEGIN:VCALENDAR
VERSION:2.0
PRODID:-//Lovivo Tour Experience - ECPv6.15.15//NONSGML v1.0//EN
CALSCALE:GREGORIAN
METHOD:PUBLISH
X-WR-CALNAME:Lovivo Tour Experience
X-ORIGINAL-URL:https://www.lovivo.it
X-WR-CALDESC:Events for Lovivo Tour Experience
REFRESH-INTERVAL;VALUE=DURATION:PT1H
X-Robots-Tag:noindex
X-PUBLISHED-TTL:PT1H
BEGIN:VTIMEZONE
TZID:Europe/Rome
BEGIN:DAYLIGHT
TZOFFSETFROM:+0100
TZOFFSETTO:+0200
TZNAME:CEST
DTSTART:20250330T010000
END:DAYLIGHT
BEGIN:STANDARD
TZOFFSETFROM:+0200
TZOFFSETTO:+0100
TZNAME:CET
DTSTART:20251026T010000
END:STANDARD
BEGIN:DAYLIGHT
TZOFFSETFROM:+0100
TZOFFSETTO:+0200
TZNAME:CEST
DTSTART:20260329T010000
END:DAYLIGHT
BEGIN:STANDARD
TZOFFSETFROM:+0200
TZOFFSETTO:+0100
TZNAME:CET
DTSTART:20261025T010000
END:STANDARD
BEGIN:DAYLIGHT
TZOFFSETFROM:+0100
TZOFFSETTO:+0200
TZNAME:CEST
DTSTART:20270328T010000
END:DAYLIGHT
BEGIN:STANDARD
TZOFFSETFROM:+0200
TZOFFSETTO:+0100
TZNAME:CET
DTSTART:20271031T010000
END:STANDARD
END:VTIMEZONE
BEGIN:VEVENT
DTSTART;TZID=Europe/Rome:20260423T093000
DTEND;TZID=Europe/Rome:20260423T140000
DTSTAMP:20260422T135556
CREATED:20250805T125926Z
LAST-MODIFIED:20260210T122311Z
UID:18290-1776936600-1776952800@www.lovivo.it
SUMMARY:Tour to the Villas and Castles of the Euganean Hills
DESCRIPTION:Discover two marvellous mansions of the Euganean Hills\, among 17th-century villas\, medieval castles\, and monumental gardens. \nAvailable pick-ups: Abano\, Montegrotto and Padua. Entry tickets are already included in the price. \nDon’t miss the date! Reserve your seat: Info & Booking
URL:https://www.lovivo.it/en/event/tour-to-the-villas-and-castles-of-the-euganean-hills-3/
LOCATION:Colli Euganei
ATTACH;FMTTYPE=image/jpeg:https://www.lovivo.it/wp-content/uploads/2025/08/LoVivo-276orizz-1-1-1.jpg
ORGANIZER;CN="Lovivo Tour Experience":MAILTO:info@lovivo.it
END:VEVENT
BEGIN:VEVENT
DTSTART;TZID=Europe/Rome:20260428T090000
DTEND;TZID=Europe/Rome:20260428T170000
DTSTAMP:20260422T135557
CREATED:20260331T093404Z
LAST-MODIFIED:20260331T093521Z
UID:20840-1777366800-1777395600@www.lovivo.it
SUMMARY:Tour to Venice
DESCRIPTION:Visit Venice\, stroll through its hidden alleys\, and admire iconic landmarks like the Rialto Bridge and St. Mark’s Square. \nDeparture from Abano and Montegrotto: \nDon’t miss out! Reserve your seat: Info & Booking
URL:https://www.lovivo.it/en/event/tour-to-venice-2/
LOCATION:Venice
ATTACH;FMTTYPE=image/jpeg:https://www.lovivo.it/wp-content/uploads/2022/10/neilmorrell-venice-5090764_1920-1.jpg
ORGANIZER;CN="Lovivo Tour Experience":MAILTO:info@lovivo.it
END:VEVENT
BEGIN:VEVENT
DTSTART;TZID=Europe/Rome:20260430T093000
DTEND;TZID=Europe/Rome:20260430T130000
DTSTAMP:20260422T135557
CREATED:20250805T122856Z
LAST-MODIFIED:20260210T121734Z
UID:18266-1777541400-1777554000@www.lovivo.it
SUMMARY:Tour to Padua
DESCRIPTION:Discover Padua with a walking tour: reach the most important squares and monuments and enjoy a Paduan tasting! \nAvailable pick-ups from Abano and Montegrotto. \nDon’t miss the date! Reserve your seat: Info & Booking
URL:https://www.lovivo.it/en/event/tour-to-padua-6/
LOCATION:Padova
ATTACH;FMTTYPE=image/jpeg:https://www.lovivo.it/wp-content/uploads/2021/06/Palazzo_della_Ragione_Tour_Padova_lovivo_tour_experience.jpg
END:VEVENT
BEGIN:VEVENT
DTSTART;TZID=Europe/Rome:20260503T133000
DTEND;TZID=Europe/Rome:20260503T183000
DTSTAMP:20260422T135557
CREATED:20260416T071610Z
LAST-MODIFIED:20260416T071719Z
UID:20899-1777815000-1777833000@www.lovivo.it
SUMMARY:Oil and Wine Tour on the Euganean Hills
DESCRIPTION:Enjoy an half-day tour with minivan and tour leader! \nDiscover an olive oil mill and a winery of the Euganean Hills with extra virgin olive oil  and volcanic wine tasting. \nAvailable pick-ups: Padua\, Abano and Montegrotto. \nDon’t miss the date! Info & Booking
URL:https://www.lovivo.it/en/event/oil-and-wine-tour-on-the-euganean-hills-6/
LOCATION:Euganean Hills\, Italy
ATTACH;FMTTYPE=image/jpeg:https://www.lovivo.it/wp-content/uploads/2025/09/WhatsApp-Image-2025-06-12-at-21.13.58-1-1-1.jpg
ORGANIZER;CN="Lovivo Tour Experience":MAILTO:info@lovivo.it
END:VEVENT
BEGIN:VEVENT
DTSTART;TZID=Europe/Rome:20260504T090000
DTEND;TZID=Europe/Rome:20260504T170000
DTSTAMP:20260422T135557
CREATED:20260331T092145Z
LAST-MODIFIED:20260416T071204Z
UID:20836-1777885200-1777914000@www.lovivo.it
SUMMARY:Tour to Venice
DESCRIPTION:Visit Venice\, stroll through its hidden alleys\, and admire iconic landmarks like the Rialto Bridge and St. Mark’s Square. \nDeparture from Abano and Montegrotto: \nDon’t miss out! Reserve your seat: Info & Booking
URL:https://www.lovivo.it/en/event/tour-to-venice/
LOCATION:Venice
ATTACH;FMTTYPE=image/jpeg:https://www.lovivo.it/wp-content/uploads/2022/10/neilmorrell-venice-5090764_1920-1.jpg
ORGANIZER;CN="Lovivo Tour Experience":MAILTO:info@lovivo.it
END:VEVENT
BEGIN:VEVENT
DTSTART;TZID=Europe/Rome:20260505T093000
DTEND;TZID=Europe/Rome:20260505T133000
DTSTAMP:20260422T135557
CREATED:20250912T072643Z
LAST-MODIFIED:20260317T090348Z
UID:18453-1777973400-1777987800@www.lovivo.it
SUMMARY:Tour to Vicenza
DESCRIPTION:Discover the centre of Vicenza\, the Basilica Palladiana and the Sanctuary of the Madonna di Monte Berico with its splendid panoramic view of the city. \nThe tour includes pick-up directly from your hotel in Abano/Montegrotto or Padua. \nDon’t miss the date! Read all the information and book Info & Bookings
URL:https://www.lovivo.it/en/event/tour-to-vicenza/
ATTACH;FMTTYPE=image/jpeg:https://www.lovivo.it/wp-content/uploads/2022/10/cusarina-vicenza-1683975_1920-2.jpg
ORGANIZER;CN="Lovivo Tour Experience":MAILTO:info@lovivo.it
END:VEVENT
BEGIN:VEVENT
DTSTART;TZID=Europe/Rome:20260506T090000
DTEND;TZID=Europe/Rome:20260506T133000
DTSTAMP:20260422T135557
CREATED:20250818T145941Z
LAST-MODIFIED:20260317T090721Z
UID:18346-1778058000-1778074200@www.lovivo.it
SUMMARY:Renaissance tour on the Euganean Hills
DESCRIPTION:If you are passionate about art\, among the experiences to enjoy in Padua and its surroundings\, you can marvel at the hidden beauties of the Euganean Hills. Just a 20-minute drive from Padua\, this area was chosen in the Middle Ages and later by many Venetian patricians for the construction of defensive sites and sumptuous residences\, the latter being oases of tranquility but at the same time expressions of the economic power of the families who owned them. Here\, hidden among the rolling hills\, are numerous castles\, gardens\, and Venetian villas in perfect condition\, which contain wonders unknown to most. Let us guide you on a discovery of two wonderful places: the Garden of Valsanzibio and Villa dei Vescovi. \nWinner of the Most Beautiful Park in Italy award\, the Monumental Garden of Valsanzibio was designed in the 17th century by architect and fountain designer Luigi Bernini and is considered the most significant example of a symbolic garden of the 17th century. Here\, water features\, tree-lined avenues\, fountains\, an intricate maze\, and statues come together harmoniously in an allegorical journey of “Salvation” along which visitors\, passing through various stages\, from the Portal of Diana to the Statue of Winged Time to the Fountain of the Dolphins\, are guided in the symbolic liberation from sin. \nOnce the holiday residence of Padua’s high prelates\, Villa dei Vescovi dates back to the first half of the 16th century and features noble rooms: bedrooms\, sitting rooms\, and halls frescoed with bucolic motifs by Lambert Sustris. Admire the profile of the Euganean Hills through the large arches of the loggias and the hanging courtyard and let yourself be enchanted by the harmony between the paintings and the landscape. \nDon’t miss the date! Save your seat: Info & Booking \n 
URL:https://www.lovivo.it/en/event/renaissance-tour-on-the-euganean-hills/
LOCATION:Euganean Hills\, Italy
ATTACH;FMTTYPE=image/jpeg:https://www.lovivo.it/wp-content/uploads/2026/01/LoVivo-241-Copia-1-scaled.jpg
ORGANIZER;CN="Lovivo Tour Experience":MAILTO:info@lovivo.it
END:VEVENT
BEGIN:VEVENT
DTSTART;TZID=Europe/Rome:20260507T143000
DTEND;TZID=Europe/Rome:20260507T183000
DTSTAMP:20260422T135557
CREATED:20250731T135527Z
LAST-MODIFIED:20260210T145734Z
UID:18174-1778164200-1778178600@www.lovivo.it
SUMMARY:Tour to Padua
DESCRIPTION:Discover Padua with a walking tour: reach the most important squares and monuments and enjoy a Paduan tasting! \nAvailable pick-ups from Abano and Montegrotto. \nDon’t miss the date! Reserve your seat: Info & Booking \n 
URL:https://www.lovivo.it/en/event/18174/
LOCATION:Padua
ATTACH;FMTTYPE=image/jpeg:https://www.lovivo.it/wp-content/uploads/2021/06/Piazza_dei_Signori_Tour_Padova_lovivo_tour_experience.jpg
ORGANIZER;CN="Lovivo Tour Experience":MAILTO:info@lovivo.it
END:VEVENT
BEGIN:VEVENT
DTSTART;TZID=Europe/Rome:20260508T090000
DTEND;TZID=Europe/Rome:20260508T133000
DTSTAMP:20260422T135557
CREATED:20250820T093053Z
LAST-MODIFIED:20260210T145557Z
UID:18356-1778230800-1778247000@www.lovivo.it
SUMMARY:Tour to the Venetian Villas of the Brenta Riviera
DESCRIPTION:Ride along the Brenta Riviera with our minivan and visit two marvellous villas of the Brenta Riviera. \nMinivan transportation\, entry tickets and accompaniment included. \nAvailable pick-ups: Padua\, Abano\, Montegrotto \nDon’t miss the date! Book your seat: Info & Booking
URL:https://www.lovivo.it/en/event/tour-to-the-venetian-villas-of-the-brenta-riviera-4/
LOCATION:Riviera del Brenta
ATTACH;FMTTYPE=image/jpeg:https://www.lovivo.it/wp-content/uploads/2025/07/pixabay-bogitw-castle-4357457_1920-1.jpg
ORGANIZER;CN="Lovivo Tour Experience":MAILTO:info@lovivo.it
END:VEVENT
BEGIN:VEVENT
DTSTART;TZID=Europe/Rome:20260509T140000
DTEND;TZID=Europe/Rome:20260509T183000
DTSTAMP:20260422T135557
CREATED:20250901T112008Z
LAST-MODIFIED:20260409T080547Z
UID:18149-1778335200-1778351400@www.lovivo.it
SUMMARY:Oil and Wine tour on the Euganean Hills
DESCRIPTION:Enjoy an half-day tour with minivan and tour leader! \nDiscover an olive oil mill and a winery of the Euganean Hills with extra virgin olive oil  and volcanic wine tasting. \nAvailable pick-ups: Padua\, Abano and Montegrotto. \nDon’t miss the date! Info & Booking \n  \nhttps://www.lovivo.it/en/tour/olive-oil-wine-euganean-hills/ \n  \n 
URL:https://www.lovivo.it/en/event/oil-and-wine-tour-on-the-euganean-hills/
LOCATION:Euganean Hills\, Italy
ATTACH;FMTTYPE=image/jpeg:https://www.lovivo.it/wp-content/uploads/2025/09/WhatsApp-Image-2025-06-12-at-21.13.58-1-1-1.jpg
ORGANIZER;CN="Lovivo Tour Experience":MAILTO:info@lovivo.it
END:VEVENT
BEGIN:VEVENT
DTSTART;TZID=Europe/Rome:20260510T140000
DTEND;TZID=Europe/Rome:20260510T173000
DTSTAMP:20260422T135557
CREATED:20250805T111147Z
LAST-MODIFIED:20260414T125055Z
UID:18237-1778421600-1778434200@www.lovivo.it
SUMMARY:Tour to the walled town of Monselice
DESCRIPTION:Discover the walled town of Monselice: visit the Cini castle and admire its collection of medieval weapons\, walk along the Seven Churches’ Path and visit a local olive mill for a tasting of extra virgin olive oil. \nTransportation\, tickets and tour leader included. Available pick-ups Padua\, Abano\, Montegrotto \nDon’t miss the date! Reserve your seat: Info & Booking \n 
URL:https://www.lovivo.it/en/event/tour-to-the-walled-town-of-monselice/
LOCATION:Euganean Hills\, Italy
ATTACH;FMTTYPE=image/jpeg:https://www.lovivo.it/wp-content/uploads/2026/01/LoVivo-315-Copia-scaled.jpg
ORGANIZER;CN="Lovivo Tour Experience":MAILTO:info@lovivo.it
END:VEVENT
BEGIN:VEVENT
DTSTART;TZID=Europe/Rome:20260511T090000
DTEND;TZID=Europe/Rome:20260511T183000
DTSTAMP:20260422T135557
CREATED:20250818T142804Z
LAST-MODIFIED:20260210T150704Z
UID:18341-1778490000-1778524200@www.lovivo.it
SUMMARY:Tour to Verona and Lake Garda 
DESCRIPTION:Enjoy a day between Verona and Lake Garda! Discover the historic center of Verona and stroll along the Lazise lakefront. \nThis 8-hour tour will first take you to Verona to visit the historic center and then to Lazise for a relaxing walk along the shores of Lake Garda. The tour of Verona will start from Piazza Bra\, where you can admire the imposing Verona Arena\, a destination that has always attracted opera lovers. Following Via Mazzini\, a famous shopping street\, you will reach Juliet’s House\, a 13th-century building and legendary home of the Capulet family. You will continue your walk towards Piazza delle Erbe\, Piazza dei Signori\, Porta Borsari\, and the Arche Scaligere\, until you reach the Ponte di Pietra. From here\, if you wish\, you can take the funicular to San Pietro hill for a panoramic view of the city. After a short lunch break\, you will reach Lazise on Lake Garda. Here you can enjoy a relaxing walk immersed in history. Of Roman origin\, Lazise is now a small village characterized by walls\, a castle\, gates\, and narrow streets with a clear medieval imprint. \nThe pick-up from the hotels in Abano\, Montegrotto or Padua is included. \nDon’t miss the date! Book your seat: Info & Booking
URL:https://www.lovivo.it/en/event/tour-to-verona-and-lake-garda/
ATTACH;FMTTYPE=image/jpeg:https://www.lovivo.it/wp-content/uploads/2025/08/WhatsApp-Image-2025-01-28-at-14.43.49-1-1.jpeg
ORGANIZER;CN="Lovivo Tour Experience":MAILTO:info@lovivo.it
END:VEVENT
BEGIN:VEVENT
DTSTART;TZID=Europe/Rome:20260513T093000
DTEND;TZID=Europe/Rome:20260513T133000
DTSTAMP:20260422T135557
CREATED:20250805T133950Z
LAST-MODIFIED:20260317T090907Z
UID:18299-1778664600-1778679000@www.lovivo.it
SUMMARY:Oil and wine tour on the Euganean Hills with tastings
DESCRIPTION:Enjoy an half-day tour with minivan and tour leader! \nDiscover an olive oil mill and a winery of the Euganean Hills with extra virgin olive oil  and volcanic wine tasting. \nAvailable pick-ups: Padua\, Abano and Montegrotto. \nDon’t miss the date! Info & Booking
URL:https://www.lovivo.it/en/event/oil-and-wine-tour-on-the-euganean-hills-with-tastings/
LOCATION:Colli Euganei
ATTACH;FMTTYPE=image/jpeg:https://www.lovivo.it/wp-content/uploads/2025/09/WhatsApp-Image-2025-06-12-at-21.13.58-1-1-1.jpg
ORGANIZER;CN="Lovivo Tour Experience":MAILTO:info@lovivo.it
END:VEVENT
BEGIN:VEVENT
DTSTART;TZID=Europe/Rome:20260514T090000
DTEND;TZID=Europe/Rome:20260514T140000
DTSTAMP:20260422T135557
CREATED:20250901T121405Z
LAST-MODIFIED:20260403T085833Z
UID:19859-1778749200-1778767200@www.lovivo.it
SUMMARY:Oil and Wine Tour on the Euganean Hills
DESCRIPTION:Enjoy an half-day tour with minivan and tour leader! \nDiscover an olive oil mill and a winery of the Euganean Hills with extra virgin olive oil  and volcanic wine tasting. \nAvailable pick-ups: Padua\, Abano and Montegrotto. \nDon’t miss the date! Info & Booking
URL:https://www.lovivo.it/en/event/oil-and-wine-tour-on-the-euganean-hills-4/
LOCATION:Euganean Hills\, Italy
ATTACH;FMTTYPE=image/jpeg:https://www.lovivo.it/wp-content/uploads/2025/09/WhatsApp-Image-2025-06-12-at-21.13.58-1-1-1.jpg
ORGANIZER;CN="Lovivo Tour Experience":MAILTO:info@lovivo.it
END:VEVENT
BEGIN:VEVENT
DTSTART;TZID=Europe/Rome:20260516T090000
DTEND;TZID=Europe/Rome:20260516T173000
DTSTAMP:20260422T135557
CREATED:20260114T080038Z
LAST-MODIFIED:20260210T151139Z
UID:18396-1778922000-1778952600@www.lovivo.it
SUMMARY:Tour to the Prosecco Hills
DESCRIPTION:Discover the Prosecco Hills\, a UNESCO territory\, among cultural and wine stops. \nAvailable pick-ups: Padua\, Abano\, Montegrotto. \nDon’t miss the date! Info & Booking
URL:https://www.lovivo.it/en/event/tour-to-the-prosecco-hills-2/
ATTACH;FMTTYPE=image/jpeg:https://www.lovivo.it/wp-content/uploads/2026/01/WhatsApp-Image-2026-01-19-at-21.59.15-36-1.jpeg
ORGANIZER;CN="Lovivo Tour Experience":MAILTO:info@lovivo.it
END:VEVENT
BEGIN:VEVENT
DTSTART;TZID=Europe/Rome:20260519T090000
DTEND;TZID=Europe/Rome:20260519T133000
DTSTAMP:20260422T135557
CREATED:20250805T134548Z
LAST-MODIFIED:20260305T113129Z
UID:18304-1779181200-1779197400@www.lovivo.it
SUMMARY:Tour to the walled town of Monselice
DESCRIPTION:Discover the walled town of Monselice: visit the Cini castle and admire its collection of medieval weapons\, walk along the Seven Churches’ Path and visit a local olive mill for a tasting of extra virgin olive oil. \nTransportation\, tickets and tour leader included. Available pick-ups Padua\, Abano\, Montegrotto \nDon’t miss the date! Reserve your seat: Info & Booking
URL:https://www.lovivo.it/en/event/tour-to-the-walled-town-of-monselice-2/
ATTACH;FMTTYPE=image/jpeg:https://www.lovivo.it/wp-content/uploads/2026/01/LoVivo-315-Copia-scaled.jpg
ORGANIZER;CN="Lovivo Tour Experience":MAILTO:info@lovivo.it
END:VEVENT
BEGIN:VEVENT
DTSTART;TZID=Europe/Rome:20260528T140000
DTEND;TZID=Europe/Rome:20260528T183000
DTSTAMP:20260422T135557
CREATED:20260320T114511Z
LAST-MODIFIED:20260320T114909Z
UID:20809-1779976800-1779993000@www.lovivo.it
SUMMARY:Oil and wine tour on the Euganean Hills
DESCRIPTION:Enjoy an half-day tour with minivan and tour leader! \nDiscover an olive oil mill and a winery of the Euganean Hills with extra virgin olive oil  and volcanic wine tasting. \nAvailable pick-ups: Padua\, Abano and Montegrotto. \nDon’t miss the date! Info & Booking
URL:https://www.lovivo.it/en/event/oil-and-wine-tour-on-the-euganean-hills-5/
LOCATION:Euganean Hills\, Italy
ATTACH;FMTTYPE=image/jpeg:https://www.lovivo.it/wp-content/uploads/2025/09/WhatsApp-Image-2025-06-12-at-21.13.58-1-1-1.jpg
ORGANIZER;CN="Lovivo Tour Experience":MAILTO:info@lovivo.it
END:VEVENT
BEGIN:VEVENT
DTSTART;TZID=Europe/Rome:20260604T140000
DTEND;TZID=Europe/Rome:20260604T183000
DTSTAMP:20260422T135557
CREATED:20250821T144741Z
LAST-MODIFIED:20260317T081042Z
UID:18378-1780581600-1780597800@www.lovivo.it
SUMMARY:Oil and wine tour on the Euganean Hills with tastings
DESCRIPTION:Enjoy an half-day tour with minivan and tour leader! \nDiscover an olive oil mill and a winery of the Euganean Hills with extra virgin olive oil  and volcanic wine tasting. \nAvailable pick-ups: Padua\, Abano and Montegrotto. \nDon’t miss the date! Info & Booking
URL:https://www.lovivo.it/en/event/oil-and-wine-tour-on-the-euganean-hills-with-tastings-2/
ATTACH;FMTTYPE=image/jpeg:https://www.lovivo.it/wp-content/uploads/2025/09/WhatsApp-Image-2025-06-12-at-21.13.58-1-1-1.jpg
END:VEVENT
END:VCALENDAR